BEGIN:VCALENDAR
VERSION:2.0
PRODID:-//CPTS du Grand Saint-Etienne - ECPv6.15.20//NONSGML v1.0//EN
CALSCALE:GREGORIAN
METHOD:PUBLISH
X-ORIGINAL-URL:https://grandsaintetienne.fr
X-WR-CALDESC:Évènements pour CPTS du Grand Saint-Etienne
REFRESH-INTERVAL;VALUE=DURATION:PT1H
X-Robots-Tag:noindex
X-PUBLISHED-TTL:PT1H
BEGIN:VTIMEZONE
TZID:Europe/Paris
BEGIN:DAYLIGHT
TZOFFSETFROM:+0100
TZOFFSETTO:+0200
TZNAME:CEST
DTSTART:20240331T010000
END:DAYLIGHT
BEGIN:STANDARD
TZOFFSETFROM:+0200
TZOFFSETTO:+0100
TZNAME:CET
DTSTART:20241027T010000
END:STANDARD
BEGIN:DAYLIGHT
TZOFFSETFROM:+0100
TZOFFSETTO:+0200
TZNAME:CEST
DTSTART:20250330T010000
END:DAYLIGHT
BEGIN:STANDARD
TZOFFSETFROM:+0200
TZOFFSETTO:+0100
TZNAME:CET
DTSTART:20251026T010000
END:STANDARD
BEGIN:DAYLIGHT
TZOFFSETFROM:+0100
TZOFFSETTO:+0200
TZNAME:CEST
DTSTART:20260329T010000
END:DAYLIGHT
BEGIN:STANDARD
TZOFFSETFROM:+0200
TZOFFSETTO:+0100
TZNAME:CET
DTSTART:20261025T010000
END:STANDARD
BEGIN:DAYLIGHT
TZOFFSETFROM:+0100
TZOFFSETTO:+0200
TZNAME:CEST
DTSTART:20270328T010000
END:DAYLIGHT
BEGIN:STANDARD
TZOFFSETFROM:+0200
TZOFFSETTO:+0100
TZNAME:CET
DTSTART:20271031T010000
END:STANDARD
BEGIN:DAYLIGHT
TZOFFSETFROM:+0100
TZOFFSETTO:+0200
TZNAME:CEST
DTSTART:20280326T010000
END:DAYLIGHT
BEGIN:STANDARD
TZOFFSETFROM:+0200
TZOFFSETTO:+0100
TZNAME:CET
DTSTART:20281029T010000
END:STANDARD
BEGIN:DAYLIGHT
TZOFFSETFROM:+0100
TZOFFSETTO:+0200
TZNAME:CEST
DTSTART:20290325T010000
END:DAYLIGHT
BEGIN:STANDARD
TZOFFSETFROM:+0200
TZOFFSETTO:+0100
TZNAME:CET
DTSTART:20291028T010000
END:STANDARD
BEGIN:DAYLIGHT
TZOFFSETFROM:+0100
TZOFFSETTO:+0200
TZNAME:CEST
DTSTART:20300331T010000
END:DAYLIGHT
BEGIN:STANDARD
TZOFFSETFROM:+0200
TZOFFSETTO:+0100
TZNAME:CET
DTSTART:20301027T010000
END:STANDARD
BEGIN:DAYLIGHT
TZOFFSETFROM:+0100
TZOFFSETTO:+0200
TZNAME:CEST
DTSTART:20310330T010000
END:DAYLIGHT
BEGIN:STANDARD
TZOFFSETFROM:+0200
TZOFFSETTO:+0100
TZNAME:CET
DTSTART:20311026T010000
END:STANDARD
END:VTIMEZONE
BEGIN:VEVENT
DTSTART;VALUE=DATE:20250619
DTEND;VALUE=DATE:20300620
DTSTAMP:20260423T122113
CREATED:20250630T004030Z
LAST-MODIFIED:20250630T010802Z
UID:631-1750291200-1908143999@grandsaintetienne.fr
SUMMARY:Groupe 1.1 Guichet Médecin Traitant
DESCRIPTION:
URL:https://grandsaintetienne.fr/evenement/groupe-1-1-guichet-medecin-traitant/
LOCATION:CPTS du Grand Saint-Etienne\, CPTS du Grand Saint-Etienne\, 6 allée de l’Orangerie\, 42580 L’Etrat\, l'Etrat\, 42580\, France
CATEGORIES:Groupes de travail
END:VEVENT
BEGIN:VEVENT
DTSTART;VALUE=DATE:20250620
DTEND;VALUE=DATE:20300621
DTSTAMP:20260423T122113
CREATED:20250630T004406Z
LAST-MODIFIED:20250630T010341Z
UID:636-1750377600-1908230399@grandsaintetienne.fr
SUMMARY:Groupe 1.2 SNP
DESCRIPTION:
URL:https://grandsaintetienne.fr/evenement/groupe-1-2-snp/
LOCATION:CPTS du Grand Saint-Etienne\, CPTS du Grand Saint-Etienne\, 6 allée de l’Orangerie\, 42580 L’Etrat\, l'Etrat\, 42580\, France
CATEGORIES:Groupes de travail
END:VEVENT
BEGIN:VEVENT
DTSTART;VALUE=DATE:20250621
DTEND;VALUE=DATE:20300622
DTSTAMP:20260423T122113
CREATED:20250630T004615Z
LAST-MODIFIED:20250630T010712Z
UID:639-1750464000-1908316799@grandsaintetienne.fr
SUMMARY:Groupe 2.1 Annuaire et Messagerie Sécurisée
DESCRIPTION:
URL:https://grandsaintetienne.fr/evenement/groupe-2-1-annuaire-et-messagerie-securisee/
LOCATION:CPTS du Grand Saint-Etienne\, CPTS du Grand Saint-Etienne\, 6 allée de l’Orangerie\, 42580 L’Etrat\, l'Etrat\, 42580\, France
CATEGORIES:Groupes de travail
END:VEVENT
BEGIN:VEVENT
DTSTART;VALUE=DATE:20250622
DTEND;VALUE=DATE:20300623
DTSTAMP:20260423T122113
CREATED:20250630T005225Z
LAST-MODIFIED:20250630T010847Z
UID:642-1750550400-1908403199@grandsaintetienne.fr
SUMMARY:Groupe 2.2 Parcours Santé Mentale
DESCRIPTION:
URL:https://grandsaintetienne.fr/evenement/groupe-2-2-parcours-sante-mentale/
LOCATION:CPTS du Grand Saint-Etienne\, CPTS du Grand Saint-Etienne\, 6 allée de l’Orangerie\, 42580 L’Etrat\, l'Etrat\, 42580\, France
CATEGORIES:Groupes de travail
END:VEVENT
BEGIN:VEVENT
DTSTART;VALUE=DATE:20250623
DTEND;VALUE=DATE:20300624
DTSTAMP:20260423T122113
CREATED:20250630T005312Z
LAST-MODIFIED:20250630T010945Z
UID:645-1750636800-1908489599@grandsaintetienne.fr
SUMMARY:Groupe 3 Prévention
DESCRIPTION:
URL:https://grandsaintetienne.fr/evenement/groupe-3-prevention/
LOCATION:CPTS du Grand Saint-Etienne\, CPTS du Grand Saint-Etienne\, 6 allée de l’Orangerie\, 42580 L’Etrat\, l'Etrat\, 42580\, France
CATEGORIES:Groupes de travail
END:VEVENT
BEGIN:VEVENT
DTSTART;VALUE=DATE:20250624
DTEND;VALUE=DATE:20300625
DTSTAMP:20260423T122113
CREATED:20250630T005344Z
LAST-MODIFIED:20250630T011045Z
UID:648-1750723200-1908575999@grandsaintetienne.fr
SUMMARY:Groupe 4 Gestion de Crise
DESCRIPTION:
URL:https://grandsaintetienne.fr/evenement/groupe-4-gestion-de-crise/
LOCATION:CPTS du Grand Saint-Etienne\, CPTS du Grand Saint-Etienne\, 6 allée de l’Orangerie\, 42580 L’Etrat\, l'Etrat\, 42580\, France
CATEGORIES:Groupes de travail
END:VEVENT
BEGIN:VEVENT
DTSTART;VALUE=DATE:20250625
DTEND;VALUE=DATE:20300626
DTSTAMP:20260423T122113
CREATED:20250630T005411Z
LAST-MODIFIED:20250630T011148Z
UID:651-1750809600-1908662399@grandsaintetienne.fr
SUMMARY:Groupe 5.1 Groupe d’échange de Pratique
DESCRIPTION:
URL:https://grandsaintetienne.fr/evenement/groupe-5-1-groupe-dechange-de-pratique/
LOCATION:CPTS du Grand Saint-Etienne\, CPTS du Grand Saint-Etienne\, 6 allée de l’Orangerie\, 42580 L’Etrat\, l'Etrat\, 42580\, France
CATEGORIES:Groupes de travail
END:VEVENT
BEGIN:VEVENT
DTSTART;VALUE=DATE:20250626
DTEND;VALUE=DATE:20300627
DTSTAMP:20260423T122113
CREATED:20250630T005456Z
LAST-MODIFIED:20250630T011231Z
UID:653-1750896000-1908748799@grandsaintetienne.fr
SUMMARY:Groupe 5.2 Iatrogénie Médicamenteuse et Benzodiazépines
DESCRIPTION:
URL:https://grandsaintetienne.fr/evenement/groupe-5-2-iatrogenie-medicamenteuse-et-benzodiazepines/
LOCATION:CPTS du Grand Saint-Etienne\, CPTS du Grand Saint-Etienne\, 6 allée de l’Orangerie\, 42580 L’Etrat\, l'Etrat\, 42580\, France
CATEGORIES:Groupes de travail
END:VEVENT
BEGIN:VEVENT
DTSTART;VALUE=DATE:20250627
DTEND;VALUE=DATE:20300628
DTSTAMP:20260423T122113
CREATED:20250630T005532Z
LAST-MODIFIED:20250703T090856Z
UID:655-1750982400-1908835199@grandsaintetienne.fr
SUMMARY:Groupe 6 Accompagnements des professionnels de santé
DESCRIPTION:
URL:https://grandsaintetienne.fr/evenement/groupe-6-accompagnements-des-professionnels-de-sante/
LOCATION:CPTS du Grand Saint-Etienne\, CPTS du Grand Saint-Etienne\, 6 allée de l’Orangerie\, 42580 L’Etrat\, l'Etrat\, 42580\, France
CATEGORIES:Groupes de travail
END:VEVENT
BEGIN:VEVENT
DTSTART;TZID=Europe/Paris:20260303T193000
DTEND;TZID=Europe/Paris:20260303T210000
DTSTAMP:20260423T122113
CREATED:20251211T085541Z
LAST-MODIFIED:20251211T085846Z
UID:1755-1772566200-1772571600@grandsaintetienne.fr
SUMMARY:GT | Axe 5 : Iatrogénie médicamenteuse
DESCRIPTION:Notre groupe se penche sur les risques liés aux traitements par benzodiazépines hypnotiques et travaille à la création de supports pédagogiques destinés aux patients.L’objectif : favoriser une meilleure compréhension des traitements\, encourager le dialogue entre patients et professionnels de santé\, et promouvoir des pratiques sécuritaires et informées. \nNous invitons également les professionnels à échanger sur leurs expériences et bonnes pratiques\, afin de construire ensemble des outils utiles et adaptés au terrain. \nVous souhaitez nous rejoindre ? Ecrivez à contact@grandsaintetienne.fr
URL:https://grandsaintetienne.fr/evenement/gt-axe-5-iatrogenie-medicamenteuse/
LOCATION:CPTS du Grand Saint-Etienne\, CPTS du Grand Saint-Etienne\, 6 allée de l’Orangerie\, 42580 L’Etrat\, l'Etrat\, 42580\, France
END:VEVENT
BEGIN:VEVENT
DTSTART;TZID=Europe/Paris:20260305T123000
DTEND;TZID=Europe/Paris:20260305T140000
DTSTAMP:20260423T122113
CREATED:20251211T084848Z
LAST-MODIFIED:20251211T084848Z
UID:1750-1772713800-1772719200@grandsaintetienne.fr
SUMMARY:Les dej’s du Jeudis | Préserver sa santé grâce à une alimentation équilibrée (prévention de la dénutrition\, et du mieux manger)
DESCRIPTION:Partagez expériences et bonnes pratiques sur la prévention de la dénutrition et le mieux-manger avec vos pairs.La rencontre est gratuite\, mais nous vous remercions de bien vouloir vous inscrire afin de faciliter l’organisation\, via le lien ci-dessous ou par mail contact@grandsaintetienne.fr.
URL:https://grandsaintetienne.fr/evenement/les-dejs-du-jeudis-preserver-sa-sante-grace-a-une-alimentation-equilibree-prevention-de-la-denutrition-et-du-mieux-manger/
LOCATION:CPTS du Grand Saint-Etienne\, CPTS du Grand Saint-Etienne\, 6 allée de l’Orangerie\, 42580 L’Etrat\, l'Etrat\, 42580\, France
END:VEVENT
BEGIN:VEVENT
DTSTART;TZID=Europe/Paris:20260311T090000
DTEND;TZID=Europe/Paris:20260311T170000
DTSTAMP:20260423T122113
CREATED:20251211T092622Z
LAST-MODIFIED:20260130T104551Z
UID:1757-1773219600-1773248400@grandsaintetienne.fr
SUMMARY:Formation| Langage Commun en Addictologie
DESCRIPTION:Cette formation vise à harmoniser le langage et les pratiques en addictologie afin de faciliter la communication entre professionnels et d’améliorer la prise en charge des patients.Elle propose un cadre théorique et pratique pour mieux comprendre les termes clés\, les approches et les enjeux spécifiques du domaine. \nLe déjeuner vous sera offert. \nNous vous remercions de bien vouloir vous inscrire afin de faciliter l’organisation via le lien ou directement par SMS au 06 52 04 70 92 \n \nPour plus d’informations\, merci de contacter : contact@grandsaintetienne.fr
URL:https://grandsaintetienne.fr/evenement/formation-langage-commun-en-addictologie/
LOCATION:CPTS du Grand Saint-Etienne\, CPTS du Grand Saint-Etienne\, 6 allée de l’Orangerie\, 42580 L’Etrat\, l'Etrat\, 42580\, France
END:VEVENT
BEGIN:VEVENT
DTSTART;TZID=Europe/Paris:20260319T000000
DTEND;TZID=Europe/Paris:20260319T000000
DTSTAMP:20260423T122113
CREATED:20251211T092920Z
LAST-MODIFIED:20251211T092920Z
UID:1760-1773878400-1773878400@grandsaintetienne.fr
SUMMARY:Les Dej's du Jeudi | Santé mentale des Soignants\, étudiants et professionnels
DESCRIPTION:Participez à un échange de pratiques consacré à la santé mentale des soignants et des étudiants en santé. \nUn moment convivial pour partager expériences\, bonnes pratiques et stratégies de prévention\, et réfléchir ensemble à des solutions concrètes pour mieux accompagner le bien-être des professionnels. \n  \nLa rencontre est gratuite\, mais nous vous remercions de bien vouloir vous inscrire afin de faciliter l’organisation. \n  \nL’horaire et le lieux seront précisés au plus vite : intéressé(e) ? Contacter contact@grandsaintetienne.fr
URL:https://grandsaintetienne.fr/evenement/les-dejs-du-jeudi-sante-mentale-des-soignants-etudiants-et-professionnels/
LOCATION:FRANCE
END:VEVENT
BEGIN:VEVENT
DTSTART;TZID=Europe/Paris:20260326T123000
DTEND;TZID=Europe/Paris:20260326T140000
DTSTAMP:20260423T122113
CREATED:20260303T160533Z
LAST-MODIFIED:20260303T160533Z
UID:1867-1774528200-1774533600@grandsaintetienne.fr
SUMMARY:Atelier Ordonnance Verte | Santé Mentale Périnatale
DESCRIPTION:Informations et inscriptions : contact@grandsaintetienne.fr
URL:https://grandsaintetienne.fr/evenement/atelier-ordonnance-verte-sante-mentale-perinatale/
LOCATION:CPTS du Grand Saint-Etienne\, CPTS du Grand Saint-Etienne\, 6 allée de l’Orangerie\, 42580 L’Etrat\, l'Etrat\, 42580\, France
END:VEVENT
BEGIN:VEVENT
DTSTART;TZID=Europe/Paris:20260326T123000
DTEND;TZID=Europe/Paris:20260326T140000
DTSTAMP:20260423T122113
CREATED:20260303T161558Z
LAST-MODIFIED:20260303T161640Z
UID:1869-1774528200-1774533600@grandsaintetienne.fr
SUMMARY:Groupe de travail - 1 000 ers jours
DESCRIPTION:Infos et Inscriptions : contact@grandsaintetienne.fr
URL:https://grandsaintetienne.fr/evenement/groupe-de-travail-1-000-ers-jours/
LOCATION:CPTS du Grand Saint-Etienne\, CPTS du Grand Saint-Etienne\, 6 allée de l’Orangerie\, 42580 L’Etrat\, l'Etrat\, 42580\, France
END:VEVENT
END:VCALENDAR