BEGIN:VCALENDAR
VERSION:2.0
PRODID:-//CPTS du Grand Saint-Etienne - ECPv6.15.20//NONSGML v1.0//EN
CALSCALE:GREGORIAN
METHOD:PUBLISH
X-WR-CALNAME:CPTS du Grand Saint-Etienne
X-ORIGINAL-URL:https://grandsaintetienne.fr
X-WR-CALDESC:Évènements pour CPTS du Grand Saint-Etienne
REFRESH-INTERVAL;VALUE=DURATION:PT1H
X-Robots-Tag:noindex
X-PUBLISHED-TTL:PT1H
BEGIN:VTIMEZONE
TZID:Europe/Paris
BEGIN:DAYLIGHT
TZOFFSETFROM:+0100
TZOFFSETTO:+0200
TZNAME:CEST
DTSTART:20240331T010000
END:DAYLIGHT
BEGIN:STANDARD
TZOFFSETFROM:+0200
TZOFFSETTO:+0100
TZNAME:CET
DTSTART:20241027T010000
END:STANDARD
BEGIN:DAYLIGHT
TZOFFSETFROM:+0100
TZOFFSETTO:+0200
TZNAME:CEST
DTSTART:20250330T010000
END:DAYLIGHT
BEGIN:STANDARD
TZOFFSETFROM:+0200
TZOFFSETTO:+0100
TZNAME:CET
DTSTART:20251026T010000
END:STANDARD
BEGIN:DAYLIGHT
TZOFFSETFROM:+0100
TZOFFSETTO:+0200
TZNAME:CEST
DTSTART:20260329T010000
END:DAYLIGHT
BEGIN:STANDARD
TZOFFSETFROM:+0200
TZOFFSETTO:+0100
TZNAME:CET
DTSTART:20261025T010000
END:STANDARD
END:VTIMEZONE
BEGIN:VEVENT
DTSTART;TZID=Europe/Paris:20250923T183000
DTEND;TZID=Europe/Paris:20250923T213000
DTSTAMP:20260420T014650
CREATED:20250710T085915Z
LAST-MODIFIED:20250717T073853Z
UID:1406-1758652200-1758663000@grandsaintetienne.fr
SUMMARY:Soirée de lancement du dispositif "Ordonnance Verte"
DESCRIPTION:Soignants\, pensez à l’ordonnance verte ! \nEn un geste simple\, vous offrez à vos patientes enceintes :\n– Des ateliers de prévention santé\n– Un panier hebdo de fruits & légumes bio (entre le 4e et le 8e mois de grossesse) \nVous souhaitez plus de détails\, inscrivez vous pour participer et en apprendre plus : ici \nUn vrai coup de pouce pour une grossesse plus saine\, un dispositif accessible\, concret\, utile. Faites passer le mot !
URL:https://grandsaintetienne.fr/evenement/soiree-de-lancement-du-dispositif-ordonnance-verte/
LOCATION:Siège Crédit Agricole\, 94 Rue Bergson\, Saint-Étienne\, FRANCE\, 42000
CATEGORIES:Soirées
END:VEVENT
END:VCALENDAR