BEGIN:VCALENDAR
VERSION:2.0
PRODID:-//CPTS du Grand Saint-Etienne - ECPv6.15.20//NONSGML v1.0//EN
CALSCALE:GREGORIAN
METHOD:PUBLISH
X-ORIGINAL-URL:https://grandsaintetienne.fr
X-WR-CALDESC:Évènements pour CPTS du Grand Saint-Etienne
REFRESH-INTERVAL;VALUE=DURATION:PT1H
X-Robots-Tag:noindex
X-PUBLISHED-TTL:PT1H
BEGIN:VTIMEZONE
TZID:Europe/Paris
BEGIN:DAYLIGHT
TZOFFSETFROM:+0100
TZOFFSETTO:+0200
TZNAME:CEST
DTSTART:20240331T010000
END:DAYLIGHT
BEGIN:STANDARD
TZOFFSETFROM:+0200
TZOFFSETTO:+0100
TZNAME:CET
DTSTART:20241027T010000
END:STANDARD
BEGIN:DAYLIGHT
TZOFFSETFROM:+0100
TZOFFSETTO:+0200
TZNAME:CEST
DTSTART:20250330T010000
END:DAYLIGHT
BEGIN:STANDARD
TZOFFSETFROM:+0200
TZOFFSETTO:+0100
TZNAME:CET
DTSTART:20251026T010000
END:STANDARD
BEGIN:DAYLIGHT
TZOFFSETFROM:+0100
TZOFFSETTO:+0200
TZNAME:CEST
DTSTART:20260329T010000
END:DAYLIGHT
BEGIN:STANDARD
TZOFFSETFROM:+0200
TZOFFSETTO:+0100
TZNAME:CET
DTSTART:20261025T010000
END:STANDARD
END:VTIMEZONE
BEGIN:VEVENT
DTSTART;TZID=Europe/Paris:20250916T190000
DTEND;TZID=Europe/Paris:20250916T220000
DTSTAMP:20260420T015024
CREATED:20250710T083716Z
LAST-MODIFIED:20250710T090030Z
UID:1400-1758049200-1758060000@grandsaintetienne.fr
SUMMARY:Soirée des professionnels : Burn-out
DESCRIPTION:Soignants : et si vous preniez un moment pour VOUS ? \nUn spectacle humoristique inédit ouvrira la soirée\, pour aborder ce sujet complexe en toute légèreté. \nEnsuite\, un temps pour :\n– Repérer les signes d’épuisement\n– Partager des outils concrets \n🔗 Inscription gratuite : ici
URL:https://grandsaintetienne.fr/evenement/soiree-des-professionnels-burn-out/
LOCATION:Comédie Triomphe\, 4 Rue Violette\, Saint-Étienne\, 42000\, France
CATEGORIES:Soirées
END:VEVENT
END:VCALENDAR