BEGIN:VCALENDAR
VERSION:2.0
PRODID:-//CPTS du Grand Saint-Etienne - ECPv6.15.20//NONSGML v1.0//EN
CALSCALE:GREGORIAN
METHOD:PUBLISH
X-WR-CALNAME:CPTS du Grand Saint-Etienne
X-ORIGINAL-URL:https://grandsaintetienne.fr
X-WR-CALDESC:Évènements pour CPTS du Grand Saint-Etienne
REFRESH-INTERVAL;VALUE=DURATION:PT1H
X-Robots-Tag:noindex
X-PUBLISHED-TTL:PT1H
BEGIN:VTIMEZONE
TZID:Europe/Paris
BEGIN:DAYLIGHT
TZOFFSETFROM:+0100
TZOFFSETTO:+0200
TZNAME:CEST
DTSTART:20240331T010000
END:DAYLIGHT
BEGIN:STANDARD
TZOFFSETFROM:+0200
TZOFFSETTO:+0100
TZNAME:CET
DTSTART:20241027T010000
END:STANDARD
BEGIN:DAYLIGHT
TZOFFSETFROM:+0100
TZOFFSETTO:+0200
TZNAME:CEST
DTSTART:20250330T010000
END:DAYLIGHT
BEGIN:STANDARD
TZOFFSETFROM:+0200
TZOFFSETTO:+0100
TZNAME:CET
DTSTART:20251026T010000
END:STANDARD
BEGIN:DAYLIGHT
TZOFFSETFROM:+0100
TZOFFSETTO:+0200
TZNAME:CEST
DTSTART:20260329T010000
END:DAYLIGHT
BEGIN:STANDARD
TZOFFSETFROM:+0200
TZOFFSETTO:+0100
TZNAME:CET
DTSTART:20261025T010000
END:STANDARD
END:VTIMEZONE
BEGIN:VEVENT
DTSTART;TZID=Europe/Paris:20251009T083000
DTEND;TZID=Europe/Paris:20251009T130000
DTSTAMP:20260420T014644
CREATED:20250710T091546Z
LAST-MODIFIED:20250710T091933Z
UID:1414-1759998600-1760014800@grandsaintetienne.fr
SUMMARY:Atelier | Désamorçage des conflits
DESCRIPTION:Parce qu’apaiser les conflits\, c’est aussi prendre soin… de soi et des autres. \nProfessionnels de santé\, vous êtes souvent confrontés à des situations tendues : Et si vous aviez des outils concrets pour mieux gérer ces situations ? \nParticipez à notre atelier pratique sur le désamorçage des conflits :– Comprendre les mécanismes d’escalade– Adopter une posture apaisante– Savoir poser des limites sans aggraver la situation– Savoir se protéger lors d’une escalade \nUn temps pour échanger\, s’outiller et repartir plus serein face aux tensions du quotidien. \n🔗 Inscription gratuite mais obligatoire : ici
URL:https://grandsaintetienne.fr/evenement/atelier-desamorcage-des-conflits/
LOCATION:CPTS du Grand Saint-Etienne\, CPTS du Grand Saint-Etienne\, 6 allée de l’Orangerie\, 42580 L’Etrat\, l'Etrat\, 42580\, France
CATEGORIES:Ateliers
END:VEVENT
END:VCALENDAR