BEGIN:VCALENDAR
VERSION:2.0
PRODID:-//CPTS du Grand Saint-Etienne - ECPv6.15.20//NONSGML v1.0//EN
CALSCALE:GREGORIAN
METHOD:PUBLISH
X-ORIGINAL-URL:https://grandsaintetienne.fr
X-WR-CALDESC:Évènements pour CPTS du Grand Saint-Etienne
REFRESH-INTERVAL;VALUE=DURATION:PT1H
X-Robots-Tag:noindex
X-PUBLISHED-TTL:PT1H
BEGIN:VTIMEZONE
TZID:Europe/Paris
BEGIN:DAYLIGHT
TZOFFSETFROM:+0100
TZOFFSETTO:+0200
TZNAME:CEST
DTSTART:20240331T010000
END:DAYLIGHT
BEGIN:STANDARD
TZOFFSETFROM:+0200
TZOFFSETTO:+0100
TZNAME:CET
DTSTART:20241027T010000
END:STANDARD
BEGIN:DAYLIGHT
TZOFFSETFROM:+0100
TZOFFSETTO:+0200
TZNAME:CEST
DTSTART:20250330T010000
END:DAYLIGHT
BEGIN:STANDARD
TZOFFSETFROM:+0200
TZOFFSETTO:+0100
TZNAME:CET
DTSTART:20251026T010000
END:STANDARD
BEGIN:DAYLIGHT
TZOFFSETFROM:+0100
TZOFFSETTO:+0200
TZNAME:CEST
DTSTART:20260329T010000
END:DAYLIGHT
BEGIN:STANDARD
TZOFFSETFROM:+0200
TZOFFSETTO:+0100
TZNAME:CET
DTSTART:20261025T010000
END:STANDARD
END:VTIMEZONE
BEGIN:VEVENT
DTSTART;TZID=Europe/Paris:20250923T123000
DTEND;TZID=Europe/Paris:20250923T140000
DTSTAMP:20260420T030649
CREATED:20250703T085448Z
LAST-MODIFIED:20250710T084621Z
UID:1156-1758630600-1758636000@grandsaintetienne.fr
SUMMARY:Atelier | Repérage précoce des troubles anxio-dépressifs
DESCRIPTION:Parce que repérer mieux\, c’est déjà commencer à prendre soin.  \nProfessionnels de santé de proximité\,\nLes troubles anxio-dépressifs sont fréquents… mais souvent silencieux.\nApprenez à mieux les repérer dès les premiers signes. \nParticipez à notre atelier dédié :\n– Comprendre les signes précoces\n– Mieux orienter vos patients\n– Échanger entre pairs sur vos pratiques\n– Gagner en confiance face à des situations parfois complexes \n🔗 Inscription : ici \nUn outil de plus dans votre pratique. Un pas de plus pour vos patients.\nOn vous attend\, rejoignez-nous !
URL:https://grandsaintetienne.fr/evenement/reperage-precoce-des-troubles-anxio-depressifs/
LOCATION:CPTS du Grand Saint-Etienne\, CPTS du Grand Saint-Etienne\, 6 allée de l’Orangerie\, 42580 L’Etrat\, l'Etrat\, 42580\, France
CATEGORIES:Ateliers
END:VEVENT
END:VCALENDAR