BEGIN:VCALENDAR
VERSION:2.0
PRODID:-//CPTS du Grand Saint-Etienne - ECPv6.15.20//NONSGML v1.0//EN
CALSCALE:GREGORIAN
METHOD:PUBLISH
X-ORIGINAL-URL:https://grandsaintetienne.fr
X-WR-CALDESC:Évènements pour CPTS du Grand Saint-Etienne
REFRESH-INTERVAL;VALUE=DURATION:PT1H
X-Robots-Tag:noindex
X-PUBLISHED-TTL:PT1H
BEGIN:VTIMEZONE
TZID:Europe/Paris
BEGIN:DAYLIGHT
TZOFFSETFROM:+0100
TZOFFSETTO:+0200
TZNAME:CEST
DTSTART:20240331T010000
END:DAYLIGHT
BEGIN:STANDARD
TZOFFSETFROM:+0200
TZOFFSETTO:+0100
TZNAME:CET
DTSTART:20241027T010000
END:STANDARD
BEGIN:DAYLIGHT
TZOFFSETFROM:+0100
TZOFFSETTO:+0200
TZNAME:CEST
DTSTART:20250330T010000
END:DAYLIGHT
BEGIN:STANDARD
TZOFFSETFROM:+0200
TZOFFSETTO:+0100
TZNAME:CET
DTSTART:20251026T010000
END:STANDARD
BEGIN:DAYLIGHT
TZOFFSETFROM:+0100
TZOFFSETTO:+0200
TZNAME:CEST
DTSTART:20260329T010000
END:DAYLIGHT
BEGIN:STANDARD
TZOFFSETFROM:+0200
TZOFFSETTO:+0100
TZNAME:CET
DTSTART:20261025T010000
END:STANDARD
END:VTIMEZONE
BEGIN:VEVENT
DTSTART;TZID=Europe/Paris:20250610T123000
DTEND;TZID=Europe/Paris:20250610T140000
DTSTAMP:20260420T063547
CREATED:20250703T094145Z
LAST-MODIFIED:20250703T094145Z
UID:1180-1749558600-1749564000@grandsaintetienne.fr
SUMMARY:Atelier | Ressources territoriales en Santé Mentale
DESCRIPTION:
URL:https://grandsaintetienne.fr/evenement/atelier-ressources-territoriales-en-sante-mentale/
LOCATION:CPTS du Grand Saint-Etienne\, CPTS du Grand Saint-Etienne\, 6 allée de l’Orangerie\, 42580 L’Etrat\, l'Etrat\, 42580\, France
CATEGORIES:Ateliers
END:VEVENT
BEGIN:VEVENT
DTSTART;TZID=Europe/Paris:20250613T123000
DTEND;TZID=Europe/Paris:20250613T140000
DTSTAMP:20260420T063547
CREATED:20250703T094000Z
LAST-MODIFIED:20250703T094000Z
UID:1177-1749817800-1749823200@grandsaintetienne.fr
SUMMARY:Atelier | Prévention du risque suicidaire
DESCRIPTION:
URL:https://grandsaintetienne.fr/evenement/atelier-prevention-du-risque-suicidaire/
LOCATION:CPTS du Grand Saint-Etienne\, CPTS du Grand Saint-Etienne\, 6 allée de l’Orangerie\, 42580 L’Etrat\, l'Etrat\, 42580\, France
CATEGORIES:Ateliers
END:VEVENT
END:VCALENDAR